BEGIN:VCALENDAR
VERSION:2.0
PRODID:-//jEvents 2.0 for Joomla//EN
CALSCALE:GREGORIAN
METHOD:PUBLISH
BEGIN:VEVENT
UID:20251229T210832154997
CATEGORIES:Absturzsicherung
CREATED:20260331T152453
SUMMARY:Absturzsicherung Übung
LOCATION:Feuerwehrhaus Langenzenn
DESCRIPTION:Übung Absturzsicherung
DTSTAMP:20260422T184922
DTSTART:20261105T180000
DTEND:20261105T200000
SEQUENCE:1
TRANSP:OPAQUE
END:VEVENT
END:VCALENDAR