BEGIN:VCALENDAR
VERSION:2.0
PRODID:-//jEvents 2.0 for Joomla//EN
CALSCALE:GREGORIAN
METHOD:PUBLISH
BEGIN:VEVENT
UID:20251229T205328154972
CATEGORIES:Drehleitermaschinisten
CREATED:20260331T152645
SUMMARY:DL Übung
LOCATION:Feuerwehrhaus Langenzenn
DESCRIPTION:Übung Drehleitermaschinisten
DTSTAMP:20260422T215149
DTSTART:20261218T180000
DTEND:20261218T200000
SEQUENCE:0
TRANSP:OPAQUE
END:VEVENT
END:VCALENDAR