BEGIN:VCALENDAR
VERSION:2.0
PRODID:-//jEvents 2.0 for Joomla//EN
CALSCALE:GREGORIAN
METHOD:PUBLISH
BEGIN:VEVENT
UID:20251229T210317154988
CATEGORIES:Aktive Mitglieder
CREATED:20260331T152647
SUMMARY:Maiausflug
LOCATION:Irgendwo
DESCRIPTION:Maiausflug\nWas und Wann und Wohin wird noch definiert
X-ALT-DESC;FMTTYPE=text/html:Maiausflug<br/>Was und Wann und Wohin wird noch definiert
DTSTAMP:20260425T104929
DTSTART:20260501T060000
DTEND:20260501T200000
SEQUENCE:0
TRANSP:OPAQUE
END:VEVENT
END:VCALENDAR