BEGIN:VCALENDAR
VERSION:2.0
PRODID:-//jEvents 2.0 for Joomla//EN
CALSCALE:GREGORIAN
METHOD:PUBLISH
BEGIN:VEVENT
UID:20251229T212052155019
CATEGORIES:Aktive Mitglieder
CREATED:20260331T152647
SUMMARY:Kirchweihbaum 
LOCATION:Feuerwehrhaus Langenzenn
DESCRIPTION:  8:00 Uhr Kirchweihbaum holen<br/>10:00 Uhr Kirchweihbaum schmücken<br/>12
 :00 Uhr Kirchweihbaum bewachen <br/>15:30 Uhr Kirchweihbaum begleiten<br/>1
 6:30 Uhr Kirchweihbaum aufstellen<br/>17:00 Uhr Kirchweihbaum bewundern<br/
 >18:00 Uhr Kirchweihbaum schee sei lassen<br/>
DTSTAMP:20260423T095833
DTSTART:20260530T060000
DTEND:20260530T180000
SEQUENCE:0
TRANSP:OPAQUE
END:VEVENT
END:VCALENDAR