BEGIN:VCALENDAR
VERSION:2.0
PRODID:-//jEvents 2.0 for Joomla//EN
CALSCALE:GREGORIAN
METHOD:PUBLISH
BEGIN:VEVENT
UID:20251229T213105155047
CATEGORIES:Aktive Mitglieder
CREATED:20260331T152647
SUMMARY:Kärwa FF Kirchfembach
DESCRIPTION:Kärwafrühschoppen in Kirchfembach
DTSTAMP:20260420T112428
DTSTART:20260621T080000
DTEND:20260621T100000
SEQUENCE:0
TRANSP:OPAQUE
END:VEVENT
END:VCALENDAR