BEGIN:VCALENDAR
VERSION:2.0
PRODID:-//jEvents 2.0 for Joomla//EN
CALSCALE:GREGORIAN
METHOD:PUBLISH
BEGIN:VEVENT
UID:20251229T205716154982
CATEGORIES:Aktive Mitglieder
CREATED:20260331T152647
SUMMARY:Übung Gesamt
LOCATION:Ferwehrhaus Langenzenn
DESCRIPTION:Übung für alle aktiven Mitglieder und Jugendliche mit abgeschlossener MTA
DTSTAMP:20260420T104508
DTSTART:20260823T060000
DTEND:20260823T080000
SEQUENCE:0
TRANSP:OPAQUE
END:VEVENT
END:VCALENDAR