BEGIN:VCALENDAR
VERSION:2.0
PRODID:-//jEvents 2.0 for Joomla//EN
CALSCALE:GREGORIAN
METHOD:PUBLISH
BEGIN:VEVENT
UID:20251229T213154155050
CATEGORIES:Aktive Mitglieder
CREATED:20260331T152647
SUMMARY:Kärwa FF Stinzendorf
DESCRIPTION:Kärwafrühschoppen in Stinzendorf
DTSTAMP:20260424T093858
DTSTART:20260823T080000
DTEND:20260823T100000
SEQUENCE:1
TRANSP:OPAQUE
END:VEVENT
END:VCALENDAR