BEGIN:VCALENDAR
VERSION:2.0
PRODID:-//jEvents 2.0 for Joomla//EN
CALSCALE:GREGORIAN
METHOD:PUBLISH
BEGIN:VEVENT
UID:20251229T214537155080
CATEGORIES:Aktive Mitglieder
CREATED:20260331T152647
SUMMARY:Altstadtfest
LOCATION:Langenzenn
DESCRIPTION:Altstadtfest\nZeiten und Dienste werden separat bekannt gegeben.\nSiehe\nht
 tps://docs.google.com/spreadsheets/d/1nIvANhXrvpM6SlaOM3vM8RlGwO5nIxvJNwwND
 B2Kzcg/edit?usp=sharing\n\n
X-ALT-DESC;FMTTYPE=text/html:Altstadtfest<br/>Zeiten und Dienste werden separat bekannt gegeben.<br/>Sie
 he<br/><a href="https://docs.google.com/spreadsheets/d/1nIvANhXrvpM6SlaOM3v
 M8RlGwO5nIxvJNwwNDB2Kzcg/edit?usp=sharing<br/><br/>">https://docs.google.co
 m/spreadsheets/d/1nIvANhXrvpM6SlaOM3vM8RlGwO5nIxvJNwwNDB2Kzcg/edit?usp=shar
 ing<br/><br/></a>
DTSTAMP:20260422T120637
DTSTART:20260912T060000
DTEND:20260912T215900
SEQUENCE:2
TRANSP:OPAQUE
END:VEVENT
END:VCALENDAR