BEGIN:VCALENDAR
VERSION:2.0
PRODID:-//jEvents 2.0 for Joomla//EN
CALSCALE:GREGORIAN
METHOD:PUBLISH
BEGIN:VEVENT
UID:20251229T152423154613
CATEGORIES:Aktive Mitglieder
CREATED:20260331T152647
SUMMARY:Unterricht
LOCATION:Feuerwehrhaus Langenzenn
DESCRIPTION:Unterricht
DTSTAMP:20260423T045248
DTSTART:20261203T180000
DTEND:20261203T200000
SEQUENCE:0
TRANSP:OPAQUE
END:VEVENT
END:VCALENDAR