BEGIN:VCALENDAR
VERSION:2.0
PRODID:-//jEvents 2.0 for Joomla//EN
CALSCALE:GREGORIAN
METHOD:PUBLISH
BEGIN:VEVENT
UID:20251229T183101154868
CATEGORIES:Jugendgruppe
CREATED:20260331T152649
SUMMARY:Jugendübung
LOCATION:Feuerwehrhaus Langenzenn
DESCRIPTION:Jugendgruppe - Übung
DTSTAMP:20260422T092011
DTSTART:20260905T070000
DTEND:20260905T093000
SEQUENCE:0
TRANSP:OPAQUE
END:VEVENT
END:VCALENDAR