BEGIN:VCALENDAR
VERSION:2.0
PRODID:-//jEvents 2.0 for Joomla//EN
CALSCALE:GREGORIAN
METHOD:PUBLISH
BEGIN:VEVENT
UID:20251229T182602154854
CATEGORIES:Jugendgruppe
CREATED:20260331T152649
SUMMARY:Jugendübung
LOCATION:Feuerwehrhaus Langenzenn
DESCRIPTION:Übung für die Jugendfeuerwehr
DTSTAMP:20260424T123246
DTSTART:20260921T170000
DTEND:20260921T183000
SEQUENCE:1
TRANSP:OPAQUE
END:VEVENT
END:VCALENDAR