BEGIN:VCALENDAR
VERSION:2.0
PRODID:-//jEvents 2.0 for Joomla//EN
CALSCALE:GREGORIAN
METHOD:PUBLISH
BEGIN:VEVENT
UID:20251229T182642154855
CATEGORIES:Jugendgruppe
CREATED:20260331T152649
SUMMARY:Jugendübung
LOCATION:Feuerwehrhaus Langenzenn
DESCRIPTION:Übung für die Jugendfeuerwehr
DTSTAMP:20260424T121047
DTSTART:20261026T180000
DTEND:20261026T193000
SEQUENCE:1
TRANSP:OPAQUE
END:VEVENT
END:VCALENDAR