BEGIN:VCALENDAR
VERSION:2.0
PRODID:-//jEvents 2.0 for Joomla//EN
CALSCALE:GREGORIAN
METHOD:PUBLISH
BEGIN:VEVENT
UID:20251229T183146154870
CATEGORIES:Jugendgruppe
CREATED:20260331T152649
SUMMARY:Jugendübung
LOCATION:Feuerwehrhaus Langenzenn
DESCRIPTION:Jugendgruppe - Übung
DTSTAMP:20260422T184920
DTSTART:20261107T080000
DTEND:20261107T103000
SEQUENCE:0
TRANSP:OPAQUE
END:VEVENT
END:VCALENDAR