BEGIN:VCALENDAR
VERSION:2.0
PRODID:-//jEvents 2.0 for Joomla//EN
CALSCALE:GREGORIAN
METHOD:PUBLISH
BEGIN:VEVENT
UID:20251229T182715154856
CATEGORIES:Jugendgruppe
CREATED:20260331T152649
SUMMARY:Jugendübung
LOCATION:Feuerwehrhaus Langenzenn
DESCRIPTION:Übung für die Jugendfeuerwehr
DTSTAMP:20260422T172644
DTSTART:20261123T180000
DTEND:20261123T193000
SEQUENCE:1
TRANSP:OPAQUE
END:VEVENT
END:VCALENDAR